Workbook

Sheet ICMS2 Building
A2: Unique ID | B2: Project Scope | C2: Cost Category (Level 2) | D2: Cost Group (Level 3) | E2: Cost Sub-Group (Level 4) | F2: Cost Sub Sub-Group (Level 5) | G2: Cost Category (Level 2) | H2: Cost Group (Level 3) | I2: Cost Sub-Group (Level 4) | J2: Cost Sub Sub-Group (Level 5)
A4: =B4&"."&C4&"."&D4&"."&E4&"."&F4 -> 01.1.00.000.000 | B4: 01 | C4: 1 | D4: 00 | E4: 000 | F4: 000 | G4: Acquisition Costs (AC) | M4: =C4&"."&D4&"."&E4&"" -> 1.00.000 | N4: =COUNTIF('Building Map'!S:S,'ICMS2 Building'!M4) -> 0
A5: =B5&"."&C5&"."&D5&"."&E5&"."&F5 -> 01.1.01.000.000 | B5: 01 | C5: 1 | D5: 01 | E5: 000 | F5: 000 | G5: Acquisition Costs (AC) | H5: Site acquisition | M5: =C5&"."&D5&"."&E5&"" -> 1.01.000 | N5: =COUNTIF('Building Map'!S:S,'ICMS2 Building'!M5) -> 0
A6: =B6&"."&C6&"."&D6&"."&E6&"."&F6 -> 01.1.01.010.000 | B6: 01 | C6: 1 | D6: 01 | E6: 010 | F6: 000 | G6: Acquisition Costs (AC) | H6: Site acquisition | I6: Costs and premium required to procure site | M6: =C6&"."&D6&"."&E6&"" -> 1.01.010 | N6: =COUNTIF('Building Map'!S:S,'ICMS2 Building'!M6) -> 0
A7: =B7&"."&C7&"."&D7&"."&E7&"."&F7 -> 01.1.01.020.000 | B7: 01 | C7: 1 | D7: 01 | E7: 020 | F7: 000 | G7: Acquisition Costs (AC) | H7: Site acquisition | I7: Compensation to existing occupiers | M7: =C7&"."&D7&"."&E7&"" -> 1.01.020 | N7: =COUNTIF('Building Map'!S:S,'ICMS2 Building'!M7) -> 0
A8: =B8&"."&C8&"."&D8&"."&E8&"."&F8 -> 01.1.01.030.000 | B8: 01 | C8: 1 | D8: 01 | E8: 030 | F8: 000 | G8: Acquisition Costs (AC) | H8: Site acquisition | I8: Demolition, removal and modification of existing properties by way of payment to existing owners instead of carrying out physical work | M8: =C8&"."&D8&"."&E8&"" -> 1.01.030 | N8: =COUNTIF('Building Map'!S:S,'ICMS2 Building'!M8) -> 0
A9: =B9&"."&C9&"."&D9&"."&E9&"."&F9 -> 01.1.01.040.000 | B9: 01 | C9: 1 | D9: 01 | E9: 040 | F9: 000 | G9: Acquisition Costs (AC) | H9: Site acquisition | I9: Contributions for the preservation of heritage, culture and environment | M9: =C9&"."&D9&"."&E9&"" -> 1.01.040 | N9: =COUNTIF('Building Map'!S:S,'ICMS2 Building'!M9) -> 0
A10: =B10&"."&C10&"."&D10&"."&E10&"."&F10 -> 01.1.01.050.000 | B10: 01 | C10: 1 | D10: 01 | E10: 050 | F10: 000 | G10: Acquisition Costs (AC) | H10: Site acquisition | I10: Related fees to agents, lawyers, and the like | M10: =C10&"."&D10&"."&E10&"" -> 1.01.050 | N10: =COUNTIF('Building Map'!S:S,'ICMS2 Building'!M10) -> 0
A11: =B11&"."&C11&"."&D11&"."&E11&"."&F11 -> 01.1.01.060.000 | B11: 01 | C11: 1 | D11: 01 | E11: 060 | F11: 000 | G11: Acquisition Costs (AC) | H11: Site acquisition | I11: Related taxes and statutory charges | M11: =C11&"."&D11&"."&E11&"" -> 1.01.060 | N11: =COUNTIF('Building Map'!S:S,'ICMS2 Building'!M11) -> 0
A12: =B12&"."&C12&"."&D12&"."&E12&"."&F12 -> 01.1.02.000.000 | B12: 01 | C12: 1 | D12: 02 | E12: 000 | F12: 000 | G12: Acquisition Costs (AC) | H12: Administrative, finance, legal and marketing expenses | M12: =C12&"."&D12&"."&E12&"" -> 1.02.000 | N12: =COUNTIF('Building Map'!S:S,'ICMS2 Building'!M12) -> 0
A13: =B13&"."&C13&"."&D13&"."&E13&"."&F13 -> 01.1.02.010.000 | B13: 01 | C13: 1 | D13: 02 | E13: 010 | F13: 000 | G13: Acquisition Costs (AC) | H13: Administrative, finance, legal and marketing expenses | I13: Client’s general office overheads | M13: =C13&"."&D13&"."&E13&"" -> 1.02.010 | N13: =COUNTIF('Building Map'!S:S,'ICMS2 Building'!M13) -> 0
A14: =B14&"."&C14&"."&D14&"."&E14&"."&F14 -> 01.1.02.020.000 | B14: 01 | C14: 1 | D14: 02 | E14: 020 | F14: 000 | G14: Acquisition Costs (AC) | H14: Administrative, finance, legal and marketing expenses | I14: Client’s project-specific administrative expenses | M14: =C14&"."&D14&"."&E14&"" -> 1.02.020 | N14: =COUNTIF('Building Map'!S:S,'ICMS2 Building'!M14) -> 0
A15: =B15&"."&C15&"."&D15&"."&E15&"."&F15 -> 01.1.02.020.010 | B15: 01 | C15: 1 | D15: 02 | E15: 020 | F15: 010 | G15: Acquisition Costs (AC) | H15: Administrative, finance, legal and marketing expenses | I15: Client’s project-specific administrative expenses | J15: in-house project management and design team | M15: =C15&"."&D15&"."&E15&"" -> 1.02.020 | N15: =COUNTIF('Building Map'!S:S,'ICMS2 Building'!M15) -> 0
A16: =B16&"."&C16&"."&D16&"."&E16&"."&F16 -> 01.1.02.020.020 | B16: 01 | C16: 1 | D16: 02 | E16: 020 | F16: 020 | G16: Acquisition Costs (AC) | H16: Administrative, finance, legal and marketing expenses | I16: Client’s project-specific administrative expenses | J16: supporting project staff | M16: =C16&"."&D16&"."&E16&"" -> 1.02.020 | N16: =COUNTIF('Building Map'!S:S,'ICMS2 Building'!M16) -> 0
A17: =B17&"."&C17&"."&D17&"."&E17&"."&F17 -> 01.1.02.020.030 | B17: 01 | C17: 1 | D17: 02 | E17: 020 | F17: 030 | G17: Acquisition Costs (AC) | H17: Administrative, finance, legal and marketing expenses | I17: Client’s project-specific administrative expenses | J17: project office venue, furniture and equipment if not included in Constructor’s preliminaries | site overheads | M17: =C17&"."&D17&"."&E17&"" -> 1.02.020 | N17: =COUNTIF('Building Map'!S:S,'ICMS2 Building'!M17) -> 0
A18: =B18&"."&C18&"."&D18&"."&E18&"."&F18 -> 01.1.02.020.040 | B18: 01 | C18: 1 | D18: 02 | E18: 020 | F18: 040 | G18: Acquisition Costs (AC) | H18: Administrative, finance, legal and marketing expenses | I18: Client’s project-specific administrative expenses | J18: stores and workshops | M18: =C18&"."&D18&"."&E18&"" -> 1.02.020 | N18: =COUNTIF('Building Map'!S:S,'ICMS2 Building'!M18) -> 0
A19: =B19&"."&C19&"."&D19&"."&E19&"."&F19 -> 01.1.02.020.050 | B19: 01 | C19: 1 | D19: 02 | E19: 020 | F19: 050 | G19: Acquisition Costs (AC) | H19: Administrative, finance, legal and marketing expenses | I19: Client’s project-specific administrative expenses | J19: safety and insurances | M19: =C19&"."&D19&"."&E19&"" -> 1.02.020 | N19: =COUNTIF('Building Map'!S:S,'ICMS2 Building'!M19) -> 0
A20: =B20&"."&C20&"."&D20&"."&E20&"."&F20 -> 01.1.02.020.060 | B20: 01 | C20: 1 | D20: 02 | E20: 020 | F20: 060 | G20: Acquisition Costs (AC) | H20: Administrative, finance, legal and marketing expenses | I20: Client’s project-specific administrative expenses | J20: staff training | M20: =C20&"."&D20&"."&E20&"" -> 1.02.020 | N20: =COUNTIF('Building Map'!S:S,'ICMS2 Building'!M20) -> 0
A21: =B21&"."&C21&"."&D21&"."&E21&"."&F21 -> 01.1.02.020.070 | B21: 01 | C21: 1 | D21: 02 | E21: 020 | F21: 070 | G21: Acquisition Costs (AC) | H21: Administrative, finance, legal and marketing expenses | I21: Client’s project-specific administrative expenses | J21: accommodation and travelling expenses for in-house team and external parties | M21: =C21&"."&D21&"."&E21&"" -> 1.02.020 | N21: =COUNTIF('Building Map'!S:S,'ICMS2 Building'!M21) -> 0
A22: =B22&"."&C22&"."&D22&"."&E22&"."&F22 -> 01.1.02.030.000 | B22: 01 | C22: 1 | D22: 02 | E22: 030 | F22: 000 | G22: Acquisition Costs (AC) | H22: Administrative, finance, legal and marketing expenses | I22: Interest and finance costs | M22: =C22&"."&D22&"."&E22&"" -> 1.02.030 | N22: =COUNTIF('Building Map'!S:S,'ICMS2 Building'!M22) -> 0
A23: =B23&"."&C23&"."&D23&"."&E23&"."&F23 -> 01.1.02.040.000 | B23: 01 | C23: 1 | D23: 02 | E23: 040 | F23: 000 | G23: Acquisition Costs (AC) | H23: Administrative, finance, legal and marketing expenses | I23: Legal expenses | M23: =C23&"."&D23&"."&E23&"" -> 1.02.040 | N23: =COUNTIF('Building Map'!S:S,'ICMS2 Building'!M23) -> 0
A24: =B24&"."&C24&"."&D24&"."&E24&"."&F24 -> 01.1.02.050.000 | B24: 01 | C24: 1 | D24: 02 | E24: 050 | F24: 000 | G24: Acquisition Costs (AC) | H24: Administrative, finance, legal and marketing expenses | I24: Accounting expenses | M24: =C24&"."&D24&"."&E24&"" -> 1.02.050 | N24: =COUNTIF('Building Map'!S:S,'ICMS2 Building'!M24) -> 0
A25: =B25&"."&C25&"."&D25&"."&E25&"."&F25 -> 01.1.02.060.000 | B25: 01 | C25: 1 | D25: 02 | E25: 060 | F25: 000 | G25: Acquisition Costs (AC) | H25: Administrative, finance, legal and marketing expenses | I25: Sales, leasing, marketing, advertising and promotional expenses | M25: =C25&"."&D25&"."&E25&"" -> 1.02.060 | N25: =COUNTIF('Building Map'!S:S,'ICMS2 Building'!M25) -> 0
A26: =B26&"."&C26&"."&D26&"."&E26&"."&F26 -> 01.1.02.070.000 | B26: 01 | C26: 1 | D26: 02 | E26: 070 | F26: 000 | G26: Acquisition Costs (AC) | H26: Administrative, finance, legal and marketing expenses | I26: Taxes and statutory charges related to sales and lease | M26: =C26&"."&D26&"."&E26&"" -> 1.02.070 | N26: =COUNTIF('Building Map'!S:S,'ICMS2 Building'!M26) -> 0
A27: =B27&"."&C27&"."&D27&"."&E27&"."&F27 -> 01.1.02.080.000 | B27: 01 | C27: 1 | D27: 02 | E27: 080 | F27: 000 | G27: Acquisition Costs (AC) | H27: Administrative, finance, legal and marketing expenses | I27: License and permit charges for operation and use | M27: =C27&"."&D27&"."&E27&"" -> 1.02.080 | N27: =COUNTIF('Building Map'!S:S,'ICMS2 Building'!M27) -> 0
A28: =B28&"."&C28&"."&D28&"."&E28&"."&F28 -> 01.2.00.000.000 | B28: 01 | C28: 2 | D28: 00 | E28: 000 | F28: 000 | G28: Construction Costs | M28: =C28&"."&D28&"."&E28&"" -> 2.00.000 | N28: =COUNTIF('Building Map'!S:S,'ICMS2 Building'!M28) -> 0
A29: =B29&"."&C29&"."&D29&"."&E29&"."&F29 -> 01.2.01.000.000 | B29: 01 | C29: 2 | D29: 01 | E29: 000 | F29: 000 | G29: Construction Costs | H29: Demolition, site preparation and formation | M29: =C29&"."&D29&"."&E29&"" -> 2.01.000 | N29: =COUNTIF('Building Map'!S:S,'ICMS2 Building'!M29) -> 0
A30: =B30&"."&C30&"."&D30&"."&E30&"."&F30 -> 01.2.01.010.000 | B30: 01 | C30: 2 | D30: 01 | E30: 010 | F30: 000 | G30: Construction Costs | H30: Demolition, site preparation and formation | I30: Site survey and ground investigation | M30: =C30&"."&D30&"."&E30&"" -> 2.01.010 | N30: =COUNTIF('Building Map'!S:S,'ICMS2 Building'!M30) -> 1
A31: =B31&"."&C31&"."&D31&"."&E31&"."&F31 -> 01.2.01.020.000 | B31: 01 | C31: 2 | D31: 01 | E31: 020 | F31: 000 | G31: Construction Costs | H31: Demolition, site preparation and formation | I31: Environmental treatment | M31: =C31&"."&D31&"."&E31&"" -> 2.01.020 | N31: =COUNTIF('Building Map'!S:S,'ICMS2 Building'!M31) -> 13
A32: =B32&"."&C32&"."&D32&"."&E32&"."&F32 -> 01.2.01.030.000 | B32: 01 | C32: 2 | D32: 01 | E32: 030 | F32: 000 | G32: Construction Costs | H32: Demolition, site preparation and formation | I32: Sampling of hazardous or useful materials or conditions | M32: =C32&"."&D32&"."&E32&"" -> 2.01.030 | N32: =COUNTIF('Building Map'!S:S,'ICMS2 Building'!M32) -> 0
A33: =B33&"."&C33&"."&D33&"."&E33&"."&F33 -> 01.2.01.040.000 | B33: 01 | C33: 2 | D33: 01 | E33: 040 | F33: 000 | G33: Construction Costs | H33: Demolition, site preparation and formation | I33: Temporary fencing | M33: =C33&"."&D33&"."&E33&"" -> 2.01.040 | N33: =COUNTIF('Building Map'!S:S,'ICMS2 Building'!M33) -> 0
A34: =B34&"."&C34&"."&D34&"."&E34&"."&F34 -> 01.2.01.050.000 | B34: 01 | C34: 2 | D34: 01 | E34: 050 | F34: 000 | G34: Construction Costs | H34: Demolition, site preparation and formation | I34: Demolition of existing buildings and support to adjacent structures | M34: =C34&"."&D34&"."&E34&"" -> 2.01.050 | N34: =COUNTIF('Building Map'!S:S,'ICMS2 Building'!M34) -> 0
A35: =B35&"."&C35&"."&D35&"."&E35&"."&F35 -> 01.2.01.060.000 | B35: 01 | C35: 2 | D35: 01 | E35: 060 | F35: 000 | G35: Construction Costs | H35: Demolition, site preparation and formation | I35: Site surface clearance (clearing, grubbing, topsoil stripping, tree felling, minor earthwork, removal) | M35: =C35&"."&D35&"."&E35&"" -> 2.01.060 | N35: =COUNTIF('Building Map'!S:S,'ICMS2 Building'!M35) -> 0
A36: =B36&"."&C36&"."&D36&"."&E36&"."&F36 -> 01.2.01.070.000 | B36: 01 | C36: 2 | D36: 01 | E36: 070 | F36: 000 | G36: Construction Costs | H36: Demolition, site preparation and formation | I36: Tree transplant | M36: =C36&"."&D36&"."&E36&"" -> 2.01.070 | N36: =COUNTIF('Building Map'!S:S,'ICMS2 Building'!M36) -> 0
A37: =B37&"."&C37&"."&D37&"."&E37&"."&F37 -> 01.2.01.080.000 | B37: 01 | C37: 2 | D37: 01 | E37: 080 | F37: 000 | G37: Construction Costs | H37: Demolition, site preparation and formation | I37: Site formation and slope treatment | M37: =C37&"."&D37&"."&E37&"" -> 2.01.080 | N37: =COUNTIF('Building Map'!S:S,'ICMS2 Building'!M37) -> 2
A38: =B38&"."&C38&"."&D38&"."&E38&"."&F38 -> 01.2.01.090.000 | B38: 01 | C38: 2 | D38: 01 | E38: 090 | F38: 000 | G38: Construction Costs | H38: Demolition, site preparation and formation | I38: Temporary surface drainage and dewatering | M38: =C38&"."&D38&"."&E38&"" -> 2.01.090 | N38: =COUNTIF('Building Map'!S:S,'ICMS2 Building'!M38) -> 3
A39: =B39&"."&C39&"."&D39&"."&E39&"."&F39 -> 01.2.01.100.000 | B39: 01 | C39: 2 | D39: 01 | E39: 100 | F39: 000 | G39: Construction Costs | H39: Demolition, site preparation and formation | I39: Temporary protection, diversion and relocation of public utilities | M39: =C39&"."&D39&"."&E39&"" -> 2.01.100 | N39: =COUNTIF('Building Map'!S:S,'ICMS2 Building'!M39) -> 9
A40: =B40&"."&C40&"."&D40&"."&E40&"."&F40 -> 01.2.01.110.000 | B40: 01 | C40: 2 | D40: 01 | E40: 110 | F40: 000 | G40: Construction Costs | H40: Demolition, site preparation and formation | I40: Erosion control | M40: =C40&"."&D40&"."&E40&"" -> 2.01.110 | N40: =COUNTIF('Building Map'!S:S,'ICMS2 Building'!M40) -> 0
A41: =B41&"."&C41&"."&D41&"."&E41&"."&F41 -> 01.2.02.000.000 | B41: 01 | C41: 2 | D41: 02 | E41: 000 | F41: 000 | G41: Construction Costs | H41: Substructure | M41: =C41&"."&D41&"."&E41&"" -> 2.02.000 | N41: =COUNTIF('Building Map'!S:S,'ICMS2 Building'!M41) -> 2
A42: =B42&"."&C42&"."&D42&"."&E42&"."&F42 -> 01.2.02.010.000 | B42: 01 | C42: 2 | D42: 02 | E42: 010 | F42: 000 | G42: Construction Costs | H42: Substructure | I42: Foundation piling and underpinning | M42: =C42&"."&D42&"."&E42&"" -> 2.02.010 | N42: =COUNTIF('Building Map'!S:S,'ICMS2 Building'!M42) -> 22
...

Sheet ICMS2 Civil Work
A2: Unique ID | B2: Project Scope | C2: Cost Category (Level 2) | D2: Cost Group (Level 3) | E2: Cost Sub-Group (Level 4) | F2: Cost Sub Sub-Group (Level 5) | G2: Cost Category (Level 2) | H2: Cost Group (Level 3) | I2: Cost Sub-Group (Level 4) | J2: Cost Sub Sub-Group (Level 5)
A4: =B4&"."&C4&"."&D4&"."&E4&"."&F4 -> 02.1.00.000.000 | B4: 02 | C4: 1 | D4: 00 | E4: 000 | F4: 000 | G4: Acquisition Costs (AC)
A5: =B5&"."&C5&"."&D5&"."&E5&"."&F5 -> 02.1.01.000.000 | B5: 02 | C5: 1 | D5: 01 | E5: 000 | F5: 000 | G5: Acquisition Costs (AC) | H5: Site acquisition
A6: =B6&"."&C6&"."&D6&"."&E6&"."&F6 -> 02.1.01.010.000 | B6: 02 | C6: 1 | D6: 01 | E6: 010 | F6: 000 | G6: Acquisition Costs (AC) | H6: Site acquisition | I6: Costs and premium required to procure site
A7: =B7&"."&C7&"."&D7&"."&E7&"."&F7 -> 02.1.01.020.000 | B7: 02 | C7: 1 | D7: 01 | E7: 020 | F7: 000 | G7: Acquisition Costs (AC) | H7: Site acquisition | I7: Compensation to existing occupiers
A8: =B8&"."&C8&"."&D8&"."&E8&"."&F8 -> 02.1.01.030.000 | B8: 02 | C8: 1 | D8: 01 | E8: 030 | F8: 000 | G8: Acquisition Costs (AC) | H8: Site acquisition | I8: Demolition, removal and modification of existing properties by way of payment to existing owners instead of carrying out physical work
A9: =B9&"."&C9&"."&D9&"."&E9&"."&F9 -> 02.1.01.040.000 | B9: 02 | C9: 1 | D9: 01 | E9: 040 | F9: 000 | G9: Acquisition Costs (AC) | H9: Site acquisition | I9: Contributions for the preservation of heritage, culture and environment
A10: =B10&"."&C10&"."&D10&"."&E10&"."&F10 -> 02.1.01.050.000 | B10: 02 | C10: 1 | D10: 01 | E10: 050 | F10: 000 | G10: Acquisition Costs (AC) | H10: Site acquisition | I10: Related fees to agents, lawyers, and the like
A11: =B11&"."&C11&"."&D11&"."&E11&"."&F11 -> 02.1.01.060.000 | B11: 02 | C11: 1 | D11: 01 | E11: 060 | F11: 000 | G11: Acquisition Costs (AC) | H11: Site acquisition | I11: Related taxes and statutory charges
A12: =B12&"."&C12&"."&D12&"."&E12&"."&F12 -> 02.1.02.000.000 | B12: 02 | C12: 1 | D12: 02 | E12: 000 | F12: 000 | G12: Acquisition Costs (AC) | H12: Administrative, finance, legal and marketing expenses
A13: =B13&"."&C13&"."&D13&"."&E13&"."&F13 -> 02.1.02.010.000 | B13: 02 | C13: 1 | D13: 02 | E13: 010 | F13: 000 | G13: Acquisition Costs (AC) | H13: Administrative, finance, legal and marketing expenses | I13: Client’s general office overheads
A14: =B14&"."&C14&"."&D14&"."&E14&"."&F14 -> 02.1.02.020.000 | B14: 02 | C14: 1 | D14: 02 | E14: 020 | F14: 000 | G14: Acquisition Costs (AC) | H14: Administrative, finance, legal and marketing expenses | I14: Client’s project-specific administrative expenses
A15: =B15&"."&C15&"."&D15&"."&E15&"."&F15 -> 02.1.02.020.010 | B15: 02 | C15: 1 | D15: 02 | E15: 020 | F15: 010 | G15: Acquisition Costs (AC) | H15: Administrative, finance, legal and marketing expenses | I15: Client’s project-specific administrative expenses | J15: in-house project management and design team
A16: =B16&"."&C16&"."&D16&"."&E16&"."&F16 -> 02.1.02.020.020 | B16: 02 | C16: 1 | D16: 02 | E16: 020 | F16: 020 | G16: Acquisition Costs (AC) | H16: Administrative, finance, legal and marketing expenses | I16: Client’s project-specific administrative expenses | J16: supporting project staff
A17: =B17&"."&C17&"."&D17&"."&E17&"."&F17 -> 02.1.02.020.030 | B17: 02 | C17: 1 | D17: 02 | E17: 020 | F17: 030 | G17: Acquisition Costs (AC) | H17: Administrative, finance, legal and marketing expenses | I17: Client’s project-specific administrative expenses | J17: project office venue, furniture and equipment if not included in Constructor’s preliminaries | site overheads
A18: =B18&"."&C18&"."&D18&"."&E18&"."&F18 -> 02.1.02.020.040 | B18: 02 | C18: 1 | D18: 02 | E18: 020 | F18: 040 | G18: Acquisition Costs (AC) | H18: Administrative, finance, legal and marketing expenses | I18: Client’s project-specific administrative expenses | J18: stores and workshops
A19: =B19&"."&C19&"."&D19&"."&E19&"."&F19 -> 02.1.02.020.050 | B19: 02 | C19: 1 | D19: 02 | E19: 020 | F19: 050 | G19: Acquisition Costs (AC) | H19: Administrative, finance, legal and marketing expenses | I19: Client’s project-specific administrative expenses | J19: safety and insurances
A20: =B20&"."&C20&"."&D20&"."&E20&"."&F20 -> 02.1.02.020.060 | B20: 02 | C20: 1 | D20: 02 | E20: 020 | F20: 060 | G20: Acquisition Costs (AC) | H20: Administrative, finance, legal and marketing expenses | I20: Client’s project-specific administrative expenses | J20: staff training
A21: =B21&"."&C21&"."&D21&"."&E21&"."&F21 -> 02.1.02.020.070 | B21: 02 | C21: 1 | D21: 02 | E21: 020 | F21: 070 | G21: Acquisition Costs (AC) | H21: Administrative, finance, legal and marketing expenses | I21: Client’s project-specific administrative expenses | J21: accommodation and travelling expenses for in-house team and external parties
A22: =B22&"."&C22&"."&D22&"."&E22&"."&F22 -> 02.1.02.030.000 | B22: 02 | C22: 1 | D22: 02 | E22: 030 | F22: 000 | G22: Acquisition Costs (AC) | H22: Administrative, finance, legal and marketing expenses | I22: Interest and finance costs
A23: =B23&"."&C23&"."&D23&"."&E23&"."&F23 -> 02.1.02.040.000 | B23: 02 | C23: 1 | D23: 02 | E23: 040 | F23: 000 | G23: Acquisition Costs (AC) | H23: Administrative, finance, legal and marketing expenses | I23: Legal expenses
A24: =B24&"."&C24&"."&D24&"."&E24&"."&F24 -> 02.1.02.050.000 | B24: 02 | C24: 1 | D24: 02 | E24: 050 | F24: 000 | G24: Acquisition Costs (AC) | H24: Administrative, finance, legal and marketing expenses | I24: Accounting expenses
A25: =B25&"."&C25&"."&D25&"."&E25&"."&F25 -> 02.1.02.060.000 | B25: 02 | C25: 1 | D25: 02 | E25: 060 | F25: 000 | G25: Acquisition Costs (AC) | H25: Administrative, finance, legal and marketing expenses | I25: Sales, leasing, marketing, advertising and promotional expenses
A26: =B26&"."&C26&"."&D26&"."&E26&"."&F26 -> 02.1.02.070.000 | B26: 02 | C26: 1 | D26: 02 | E26: 070 | F26: 000 | G26: Acquisition Costs (AC) | H26: Administrative, finance, legal and marketing expenses | I26: Taxes and statutory charges related to sales and lease
A27: =B27&"."&C27&"."&D27&"."&E27&"."&F27 -> 02.1.02.080.000 | B27: 02 | C27: 1 | D27: 02 | E27: 080 | F27: 000 | G27: Acquisition Costs (AC) | H27: Administrative, finance, legal and marketing expenses | I27: License and permit charges for operation and use
A28: =B28&"."&C28&"."&D28&"."&E28&"."&F28 -> 02.2.00.000.000 | B28: 02 | C28: 2 | D28: 00 | E28: 000 | F28: 000 | G28: Construction Costs
A29: =B29&"."&C29&"."&D29&"."&E29&"."&F29 -> 02.2.01.000.000 | B29: 02 | C29: 2 | D29: 01 | E29: 000 | F29: 000 | G29: Construction Costs | H29: Demolition, site preparation and formation
A30: =B30&"."&C30&"."&D30&"."&E30&"."&F30 -> 02.2.01.010.000 | B30: 02 | C30: 2 | D30: 01 | E30: 010 | F30: 000 | G30: Construction Costs | H30: Demolition, site preparation and formation | I30: Site survey and ground investigation
A31: =B31&"."&C31&"."&D31&"."&E31&"."&F31 -> 02.2.01.020.000 | B31: 02 | C31: 2 | D31: 01 | E31: 020 | F31: 000 | G31: Construction Costs | H31: Demolition, site preparation and formation | I31: Environmental treatment
A32: =B32&"."&C32&"."&D32&"."&E32&"."&F32 -> 02.2.01.030.000 | B32: 02 | C32: 2 | D32: 01 | E32: 030 | F32: 000 | G32: Construction Costs | H32: Demolition, site preparation and formation | I32: Sampling of hazardous or useful materials or conditions
A33: =B33&"."&C33&"."&D33&"."&E33&"."&F33 -> 02.2.01.040.000 | B33: 02 | C33: 2 | D33: 01 | E33: 040 | F33: 000 | G33: Construction Costs | H33: Demolition, site preparation and formation | I33: Temporary fencing
A34: =B34&"."&C34&"."&D34&"."&E34&"."&F34 -> 02.2.01.050.000 | B34: 02 | C34: 2 | D34: 01 | E34: 050 | F34: 000 | G34: Construction Costs | H34: Demolition, site preparation and formation | I34: Demolition of existing structures and support to adjacent structures
A35: =B35&"."&C35&"."&D35&"."&E35&"."&F35 -> 02.2.01.060.000 | B35: 02 | C35: 2 | D35: 01 | E35: 060 | F35: 000 | G35: Construction Costs | H35: Demolition, site preparation and formation | I35: Site surface clearance (clearing, grubbing, topsoil stripping, tree felling, minor earthwork, removal)
A36: =B36&"."&C36&"."&D36&"."&E36&"."&F36 -> 02.2.01.070.000 | B36: 02 | C36: 2 | D36: 01 | E36: 070 | F36: 000 | G36: Construction Costs | H36: Demolition, site preparation and formation | I36: Tree transplant
A37: =B37&"."&C37&"."&D37&"."&E37&"."&F37 -> 02.2.01.080.000 | B37: 02 | C37: 2 | D37: 01 | E37: 080 | F37: 000 | G37: Construction Costs | H37: Demolition, site preparation and formation | I37: General site formation and slope treatment
A38: =B38&"."&C38&"."&D38&"."&E38&"."&F38 -> 02.2.01.090.000 | B38: 02 | C38: 2 | D38: 01 | E38: 090 | F38: 000 | G38: Construction Costs | H38: Demolition, site preparation and formation | I38: Temporary surface drainage and dewatering
A39: =B39&"."&C39&"."&D39&"."&E39&"."&F39 -> 02.2.01.100.000 | B39: 02 | C39: 2 | D39: 01 | E39: 100 | F39: 000 | G39: Construction Costs | H39: Demolition, site preparation and formation | I39: Temporary access roads and storage areas (provided under an advance contract)
A40: =B40&"."&C40&"."&D40&"."&E40&"."&F40 -> 02.2.01.110.000 | B40: 02 | C40: 2 | D40: 01 | E40: 110 | F40: 000 | G40: Construction Costs | H40: Demolition, site preparation and formation | I40: Temporary protection, diversion and relocation of public utilities
A41: =B41&"."&C41&"."&D41&"."&E41&"."&F41 -> 02.2.02.120.000 | B41: 02 | C41: 2 | D41: 02 | E41: 120 | F41: 000 | G41: Construction Costs | H41: Demolition, site preparation and formation | I41: Erosion control
A42: =B42&"."&C42&"."&D42&"."&E42&"."&F42 -> 02.2.02.000.000 | B42: 02 | C42: 2 | D42: 02 | E42: 000 | F42: 000 | G42: Construction Costs | H42: Substructure
...

Sheet Building Level
A1: Project | D1: Cost Category | F1: Cost Category | G1: Cost Group | I1: Cost Group | J1: Cost Sub-Group
A2: Buildings | B2: 01 | C2: Buildings | D2: Acquisition Costs (AC) | E2: 1 | F2: Acquisition Costs (AC) | G2: Site acquisition | H2: 01 | I2: Site acquisition | J2: Costs and premium required to procure site | K2: 010
A3: Roads, runways and motorways | B3: 02 | C3: Buildings | D3: Construction Costs (CC) | E3: 2 | F3: Acquisition Costs (AC) | G3: Administrative, financial, legal and marketing expenses | H3: 02 | I3: Site acquisition | J3: Compensation to existing occupiers | K3: 020
A4: Railways | B4: 03 | C4: Buildings | D4: Renewal Costs (RC) | E4: 3 | F4: Construction Costs (CC) | G4: Demolition, site preparation and formation | H4: 01 | I4: Site acquisition | J4: Demolition, removal and modification of existing properties by way of payment to existing owners instead of carrying out physical work | K4: 030
A5: Bridges | B5: 04 | C5: Buildings | D5: Operation Costs (OC) | E5: 4 | F5: Construction Costs (CC) | G5: Substructure | H5: 02 | I5: Site acquisition | J5: Contributions for the preservation of heritage, culture and environment | K5: 040
A6: Tunnels | B6: 05 | C6: Buildings | D6: Maintenance Costs (MC) | E6: 5 | F6: Construction Costs (CC) | G6: Structure | H6: 03 | I6: Site acquisition | J6: Related fees to agents, lawyers, and the like | K6: 050
A7: Waste water treatment works | B7: 06 | C7: Buildings | D7: End of Life Costs (EC) | E7: 6 | F7: Construction Costs (CC) | G7: Architectural works | Non-structural works | H7: 04 | I7: Site acquisition | J7: Related taxes and statutory charges | K7: 060
A8: Water treatment works | B8: 07 | F8: Construction Costs (CC) | G8: Services and equipment | H8: 05 | I8: Administrative, financial, legal and marketing expenses | J8: Client’s general office overheads | K8: 010
A9: Pipelines | B9: 08 | F9: Construction Costs (CC) | G9: Surface and underground drainage | H9: 06 | I9: Administrative, financial, legal and marketing expenses | J9: Client’s project-specific administrative expenses | K9: 020
A10: Wells and boreholes | B10: 09 | F10: Construction Costs (CC) | G10: External and ancillary works | H10: 07 | I10: Administrative, financial, legal and marketing expenses | J10: Interest and finance costs | K10: 030
A11: Power-generating plants | B11: 10 | F11: Construction Costs (CC) | G11: Preliminaries | Constructors’ site overheads | general requirements | H11: 08 | I11: Administrative, financial, legal and marketing expenses | J11: Legal expenses | K11: 040
A12: Chemical plants | B12: 11 | F12: Construction Costs (CC) | G12: Risk Allowances | H12: 09 | I12: Administrative, financial, legal and marketing expenses | J12: Accounting expenses | K12: 050
A13: Refineries | B13: 12 | F13: Construction Costs (CC) | G13: Taxes and Levies | H13: 10 | I13: Administrative, financial, legal and marketing expenses | J13: Sales, leasing, marketing, advertising and promotional expenses | K13: 060
A14: Dams and reservoirs | B14: 13 | F14: Construction Costs (CC) | G14: Work and utilities off-site | H14: 11 | I14: Administrative, financial, legal and marketing expenses | J14: Taxes and statutory charges related to sales and lease | K14: 070
A15: Mines and quarries | B15: 14 | F15: Construction Costs (CC) | G15: Post-completion loose furniture, fittings and equipment | H15: 12 | I15: Administrative, financial, legal and marketing expenses | J15: License and permit charges for operation and use | K15: 080
F16: Construction Costs (CC) | G16: Construction | Renewal | Maintenance-related consultancies and supervision | H16: 13 | I16: Demolition, site preparation and formation | J16: Site survey and ground investigation | K16: 010
F17: Renewal Costs (RC) | G17: Demolition, site preparation and formation | H17: 01 | I17: Demolition, site preparation and formation | J17: Environmental treatment | K17: 020
F18: Renewal Costs (RC) | G18: Substructure | H18: 02 | I18: Demolition, site preparation and formation | J18: Sampling of hazardous or useful materials or conditions | K18: 030
F19: Renewal Costs (RC) | G19: Structure | H19: 03 | I19: Demolition, site preparation and formation | J19: Temporary fencing | K19: 040
F20: Renewal Costs (RC) | G20: Architectural works | Non-structural works | H20: 04 | I20: Demolition, site preparation and formation | J20: Demolition of existing buildings and support to adjacent structures | K20: 050
F21: Renewal Costs (RC) | G21: Services and equipment | H21: 05 | I21: Demolition, site preparation and formation | J21: Site surface clearance (clearing, grubbing, topsoil stripping, tree felling, minor earthwork, removal) | K21: 060
F22: Renewal Costs (RC) | G22: Surface and underground drainage | H22: 06 | I22: Demolition, site preparation and formation | J22: Tree transplant | K22: 070
F23: Renewal Costs (RC) | G23: External and ancillary works | H23: 07 | I23: Demolition, site preparation and formation | J23: Site formation and slope treatment | K23: 080
F24: Renewal Costs (RC) | G24: Preliminaries | Constructors’ site overheads | general requirements | H24: 08 | I24: Demolition, site preparation and formation | J24: Temporary surface drainage and dewatering | K24: 090
F25: Renewal Costs (RC) | G25: Risk Allowances | H25: 09 | I25: Demolition, site preparation and formation | J25: Temporary protection, diversion and relocation of public utilities | K25: 100
F26: Renewal Costs (RC) | G26: Taxes and Levies | H26: 10 | I26: Demolition, site preparation and formation | J26: Erosion control | K26: 110
F27: Renewal Costs (RC) | G27: Work and utilities off-site | H27: 11 | I27: Substructure | J27: Foundation piling and underpinning | K27: 010
... F57: End of Life Costs (EC) | G57: Taxes and Levies | H57: 07 | I57: Services and equipment | J57: Water and waste water treatment equipment | K57: 150
I58: Services and equipment | J58: Fountains, pools and filtration plant | K58: 160
I59: Services and equipment | J59: Powered building signage | K59: 170
I60: Services and equipment | J60: Audio/visual entertainment system | K60: 175
I61: Services and equipment | J61: Kitchen equipment | K61: 180
I62: Services and equipment | J62: Cold room equipment | K62: 190
I63: Services and equipment | J63: Laboratory equipment | K63: 200
I64: Services and equipment | J64: Medical equipment | K64: 210
I65: Services and equipment | J65: Hotel equipment | K65: 220
I66: Services and equipment | J66: Car park or entrances access control | K66: 230
I67: Services and equipment | J67: Domestic appliances | K67: 240
I68: Services and equipment | J68: Other specialist services | K68: 250
I69: Services and equipment | J69: Builder’s profit and attendance on services | K69: 260
...

Sheet Civil Level
A1: Project | D1: Cost Category | F1: Cost Category | G1: Cost Group | I1: Cost Group | J1: Cost Sub-Group
A2: Buildings | B2: 01 | C2: Buildings | D2: Acquisition Costs (AC) | E2: 1 | F2: Acquisition Costs (AC) | G2: Site acquisition | H2: 01 | I2: Site acquisition | J2: Costs and premium required to procure site | K2: 010
A3: Roads, runways and motorways | B3: 02 | C3: Buildings | D3: Construction Costs (CC) | E3: 2 | F3: Acquisition Costs (AC) | G3: Administrative, financial, legal and marketing expenses | H3: 02 | I3: Site acquisition | J3: Compensation to existing occupiers | K3: 020
A4: Railways | B4: 03 | C4: Buildings | D4: Renewal Costs (RC) | E4: 3 | F4: Construction Costs (CC) | G4: Demolition, site preparation and formation | H4: 01 | I4: Site acquisition | J4: Demolition, removal and modification of existing properties by way of payment to existing owners instead of carrying out physical work | K4: 030
A5: Bridges | B5: 04 | C5: Buildings | D5: Operation Costs (OC) | E5: 4 | F5: Construction Costs (CC) | G5: Substructure | H5: 02 | I5: Site acquisition | J5: Contributions for the preservation of heritage, culture and environment | K5: 040
A6: Tunnels | B6: 05 | C6: Buildings | D6: Maintenance Costs (MC) | E6: 5 | F6: Construction Costs (CC) | G6: Structure | H6: 03 | I6: Site acquisition | J6: Related fees to agents, lawyers, and the like | K6: 050
A7: Waste water treatment works | B7: 06 | C7: Buildings | D7: End of Life Costs (EC) | E7: 6 | F7: Construction Costs (CC) | G7: Non-structural works | H7: 04 | I7: Site acquisition | J7: Related taxes and statutory charges | K7: 060
A8: Water treatment works | B8: 07 | F8: Construction Costs (CC) | G8: Services and equipment | H8: 05 | I8: Administrative, financial, legal and marketing expenses | J8: Client’s general office overheads | K8: 010
A9: Pipelines | B9: 08 | F9: Construction Costs (CC) | G9: Surface and underground drainage | H9: 06 | I9: Administrative, financial, legal and marketing expenses | J9: Client’s project-specific administrative expenses | K9: 020
A10: Wells and boreholes | B10: 09 | F10: Construction Costs (CC) | G10: External and ancillary works | H10: 07 | I10: Administrative, financial, legal and marketing expenses | J10: Interest and finance costs | K10: 030
A11: Power-generating plants | B11: 10 | F11: Construction Costs (CC) | G11: Preliminaries | Constructors’ site overheads | general requirements | H11: 08 | I11: Administrative, financial, legal and marketing expenses | J11: Legal expenses | K11: 040
A12: Chemical plants | B12: 11 | F12: Construction Costs (CC) | G12: Risk Allowances | H12: 09 | I12: Administrative, financial, legal and marketing expenses | J12: Accounting expenses | K12: 050
A13: Refineries | B13: 12 | F13: Construction Costs (CC) | G13: Taxes and Levies | H13: 10 | I13: Administrative, financial, legal and marketing expenses | J13: Sales, leasing, marketing, advertising and promotional expenses | K13: 060
A14: Dams and reservoirs | B14: 13 | F14: Construction Costs (CC) | G14: Work and utilities off-site | H14: 11 | I14: Administrative, financial, legal and marketing expenses | J14: Taxes and statutory charges related to sales and lease | K14: 070
A15: Mines and quarries | B15: 14 | F15: Construction Costs (CC) | G15: Post-completion loose furniture, fittings and equipment | H15: 12 | I15: Administrative, financial, legal and marketing expenses | J15: License and permit charges for operation and use | K15: 080
F16: Construction Costs (CC) | G16: Construction | Renewal | Maintenance-related consultancies and supervision | H16: 13 | I16: Demolition, site preparation and formation | J16: Site survey and ground investigation | K16: 010
F17: Renewal Costs (RC) | G17: Demolition, site preparation and formation | H17: 01 | I17: Demolition, site preparation and formation | J17: Environmental treatment | K17: 020
F18: Renewal Costs (RC) | G18: Substructure | H18: 02 | I18: Demolition, site preparation and formation | J18: Sampling of hazardous or useful materials or conditions | K18: 030
F19: Renewal Costs (RC) | G19: Structure | H19: 03 | I19: Demolition, site preparation and formation | J19: Temporary fencing | K19: 040
F20: Renewal Costs (RC) | G20: Architectural works | Non-structural works | H20: 04 | I20: Demolition, site preparation and formation | J20: Demolition of existing structures and support to adjacent structures | K20: 050
F21: Renewal Costs (RC) | G21: Services and equipment | H21: 05 | I21: Demolition, site preparation and formation | J21: Site surface clearance (clearing, grubbing, topsoil stripping, tree felling, minor earthwork, removal) | K21: 060
F22: Renewal Costs (RC) | G22: Surface and underground drainage | H22: 06 | I22: Demolition, site preparation and formation | J22: Tree transplant | K22: 070
F23: Renewal Costs (RC) | G23: External and ancillary works | H23: 07 | I23: Demolition, site preparation and formation | J23: General site formation and slope treatment | K23: 080
F24: Renewal Costs (RC) | G24: Preliminaries | Constructors’ site overheads | general requirements | H24: 08 | I24: Demolition, site preparation and formation | J24: Temporary surface drainage and dewatering | K24: 090
F25: Renewal Costs (RC) | G25: Risk Allowances | H25: 09 | I25: Demolition, site preparation and formation | J25: Temporary access roads and storage areas (provided under an advance contract) | K25: 100
F26: Renewal Costs (RC) | G26: Taxes and Levies | H26: 10 | I26: Demolition, site preparation and formation | J26: Temporary protection, diversion and relocation of public utilities | K26: 110
F27: Renewal Costs (RC) | G27: Work and utilities off-site | H27: 11 | I27: Demolition, site preparation and formation | J27: Erosion control | K27: 120
F28: Renewal Costs (RC) | G28: Post-completion loose furniture, fittings and equipment | H28: 12 | I28: Substructure | J28: Embankments/cuttings | K28: 010
F29: Renewal Costs (RC) | G29: Construction | Renewal | Maintenance-related consultancies and supervision | H29: 13 | I29: Substructure | J29: Excavation, disposal and lateral supports (specifically to receive any substructure construction but excluding general site formation and slope treatment) | K29: 020
F30: Operation Costs (OC) | G30: Cleaning | H30: 01 | I30: Substructure | J30: Trenching | K30: 030
F31: Operation Costs (OC) | G31: Utilities | H31: 02 | I31: Substructure | J31: Drilling/boring | K31: 040
F32: Operation Costs (OC) | G32: Waste management | H32: 03 | I32: Substructure | J32: Piling/anchoring | K32: 050
F33: Operation Costs (OC) | G33: Security | H33: 04 | I33: Substructure | J33: Structural backfill/ground remediation | K33: 060
F34: Operation Costs (OC) | G34: Information and communications technology | H34: 05 | I34: Substructure | J34: Earth-retaining structures | K34: 070
F35: Operation Costs (OC) | G35: Operators’ site overheads | general requirements | H35: 06 | I35: Substructure | J35: Abutments/wing walls | K35: 080
F36: Operation Costs (OC) | G36: Risk Allowances | H36: 07 | I36: Substructure | J36: Pile caps/footings/bases (nearest to the ground level or water level if constructed in water) | K36: 090
F37: Operation Costs (OC) | G37: Taxes and Levies | H37: 08 | I37: Substructure | J37: Sub-base to pavements and rail track structures | K37: 100
F38: Maintenance Costs (MC) | G38: Demolition, site preparation and formation | H38: 01 | I38: Substructure | J38: Bases to supports for tanks, pipes, well heads and the like | K38: 110
F39: Maintenance Costs (MC) | G39: Substructure | H39: 02 | I39: Substructure | J39: Beds and surrounds to underground pipes | K39: 120
F40: Maintenance Costs (MC) | G40: Structure | H40: 03 | I40: Structure | J40: Piers and towers | K40: 010
...

Sheet Building Map
A1: Ss Systems - 08 February 2019 - v1.13
A4: Code | B4: Group | C4: Sub group | D4: Section | E4: Object | F4: Title | I4: Cost Category | J4: Cost Group | K4: Cost Sub-Group | L4: Cost Sub Sub-Group | N4: L2 | O4: L3 | P4: L4 | Q4: L5 | S4: Unique ID | U4: Notes
A5: Ss_15 | B5: 15 | F5: Earthworks, remediation and temporary systems - Also See Civil Map | N5: =IF(I5=0, "00", VLOOKUP(I5,'Building Level'!$D$2:$E$100,2,FALSE)) -> 00 | O5: =IF(J5=0,"00",VLOOKUP(J5,'Building Level'!$G$2:$H$100,2,FALSE)) -> 00 | P5: =IF(K5=0,"000",VLOOKUP(K5,'Building Level'!$J$2:$K$200,2,FALSE)) -> 000 | Q5: =IF(L5=0,"000",VLOOKUP(L5,'Building Level'!$M$2:$N$172,2,FALSE)) -> 000 | S5: =N5&"."&O5&"."&P5 -> 00.00.000
A6: Ss_15_10 | B6: 15 | C6: 10 | F6: Groundworks and earthworks systems | I6: Construction Costs (CC) | J6: Substructure | K6: Basement sides and bottom | N6: =IF(I6=0, "00", VLOOKUP(I6,'Building Level'!$D$2:$E$100,2,FALSE)) -> 2 | O6: =IF(J6=0,"00",VLOOKUP(J6,'Building Level'!$G$2:$H$100,2,FALSE)) -> 02 | P6: =IF(K6=0,"000",VLOOKUP(K6,'Building Level'!$J$2:$K$200,2,FALSE)) -> 030 | Q6: =IF(L6=0,"000",VLOOKUP(L6,'Building Level'!$M$2:$N$172,2,FALSE)) -> 000 | S6: =N6&"."&O6&"."&P6 -> 2.02.030
A7: Ss_15_10 | B7: 15 | C7: 10 | F7: Groundworks and earthworks systems | I7: Renewal Costs (RC) | J7: Substructure | K7: Basement sides and bottom | N7: =IF(I7=0, "00", VLOOKUP(I7,'Building Level'!$D$2:$E$100,2,FALSE)) -> 3 | O7: =IF(J7=0,"00",VLOOKUP(J7,'Building Level'!$G$2:$H$100,2,FALSE)) -> 02 | P7: =IF(K7=0,"000",VLOOKUP(K7,'Building Level'!$J$2:$K$200,2,FALSE)) -> 030 | Q7: =IF(L7=0,"000",VLOOKUP(L7,'Building Level'!$M$2:$N$172,2,FALSE)) -> 000 | S7: =N7&"."&O7&"."&P7 -> 3.02.030
A8: Ss_15_10 | B8: 15 | C8: 10 | F8: Groundworks and earthworks systems | I8: Maintenance Costs (MC) | J8: Substructure | K8: Basement sides and bottom | N8: =IF(I8=0, "00", VLOOKUP(I8,'Building Level'!$D$2:$E$100,2,FALSE)) -> 5 | O8: =IF(J8=0,"00",VLOOKUP(J8,'Building Level'!$G$2:$H$100,2,FALSE)) -> 02 | P8: =IF(K8=0,"000",VLOOKUP(K8,'Building Level'!$J$2:$K$200,2,FALSE)) -> 030 | Q8: =IF(L8=0,"000",VLOOKUP(L8,'Building Level'!$M$2:$N$172,2,FALSE)) -> 000 | S8: =N8&"."&O8&"."&P8 -> 5.02.030
A9: Ss_15_10 | B9: 15 | C9: 10 | F9: Groundworks and earthworks systems | I9: Construction Costs (CC) | J9: Substructure | K9: Foundations up to top of lowest floor slabs | N9: =IF(I9=0, "00", VLOOKUP(I9,'Building Level'!$D$2:$E$100,2,FALSE)) -> 2 | O9: =IF(J9=0,"00",VLOOKUP(J9,'Building Level'!$G$2:$H$100,2,FALSE)) -> 02 | P9: =IF(K9=0,"000",VLOOKUP(K9,'Building Level'!$J$2:$K$200,2,FALSE)) -> 020 | Q9: =IF(L9=0,"000",VLOOKUP(L9,'Building Level'!$M$2:$N$172,2,FALSE)) -> 000 | S9: =N9&"."&O9&"."&P9 -> 2.02.020
A10: Ss_15_10 | B10: 15 | C10: 10 | F10: Groundworks and earthworks systems | I10: Renewal Costs (RC) | J10: Substructure | K10: Foundations up to top of lowest floor slabs | N10: =IF(I10=0, "00", VLOOKUP(I10,'Building Level'!$D$2:$E$100,2,FALSE)) -> 3 | O10: =IF(J10=0,"00",VLOOKUP(J10,'Building Level'!$G$2:$H$100,2,FALSE)) -> 02 | P10: =IF(K10=0,"000",VLOOKUP(K10,'Building Level'!$J$2:$K$200,2,FALSE)) -> 020 | Q10: =IF(L10=0,"000",VLOOKUP(L10,'Building Level'!$M$2:$N$172,2,FALSE)) -> 000 | S10: =N10&"."&O10&"."&P10 -> 3.02.020
A11: Ss_15_10 | B11: 15 | C11: 10 | F11: Groundworks and earthworks systems | I11: Maintenance Costs (MC) | J11: Substructure | K11: Foundations up to top of lowest floor slabs | N11: =IF(I11=0, "00", VLOOKUP(I11,'Building Level'!$D$2:$E$100,2,FALSE)) -> 5 | O11: =IF(J11=0,"00",VLOOKUP(J11,'Building Level'!$G$2:$H$100,2,FALSE)) -> 02 | P11: =IF(K11=0,"000",VLOOKUP(K11,'Building Level'!$J$2:$K$200,2,FALSE)) -> 020 | Q11: =IF(L11=0,"000",VLOOKUP(L11,'Building Level'!$M$2:$N$172,2,FALSE)) -> 000 | S11: =N11&"."&O11&"."&P11 -> 5.02.020
A12: Ss_15_10_30 | B12: 15 | C12: 10 | D12: 30 | F12: Excavating and filling systems | I12: Construction Costs (CC) | J12: Substructure | K12: Basement sides and bottom | N12: =IF(I12=0, "00", VLOOKUP(I12,'Building Level'!$D$2:$E$100,2,FALSE)) -> 2 | O12: =IF(J12=0,"00",VLOOKUP(J12,'Building Level'!$G$2:$H$100,2,FALSE)) -> 02 | P12: =IF(K12=0,"000",VLOOKUP(K12,'Building Level'!$J$2:$K$200,2,FALSE)) -> 030 | Q12: =IF(L12=0,"000",VLOOKUP(L12,'Building Level'!$M$2:$N$172,2,FALSE)) -> 000 | S12: =N12&"."&O12&"."&P12 -> 2.02.030
A13: Ss_15_10_30 | B13: 15 | C13: 10 | D13: 30 | F13: Excavating and filling systems | I13: Renewal Costs (RC) | J13: Substructure | K13: Basement sides and bottom | N13: =IF(I13=0, "00", VLOOKUP(I13,'Building Level'!$D$2:$E$100,2,FALSE)) -> 3 | O13: =IF(J13=0,"00",VLOOKUP(J13,'Building Level'!$G$2:$H$100,2,FALSE)) -> 02 | P13: =IF(K13=0,"000",VLOOKUP(K13,'Building Level'!$J$2:$K$200,2,FALSE)) -> 030 | Q13: =IF(L13=0,"000",VLOOKUP(L13,'Building Level'!$M$2:$N$172,2,FALSE)) -> 000 | S13: =N13&"."&O13&"."&P13 -> 3.02.030
A14: Ss_15_10_30 | B14: 15 | C14: 10 | D14: 30 | F14: Excavating and filling systems | I14: Maintenance Costs (MC) | J14: Substructure | K14: Basement sides and bottom | N14: =IF(I14=0, "00", VLOOKUP(I14,'Building Level'!$D$2:$E$100,2,FALSE)) -> 5 | O14: =IF(J14=0,"00",VLOOKUP(J14,'Building Level'!$G$2:$H$100,2,FALSE)) -> 02 | P14: =IF(K14=0,"000",VLOOKUP(K14,'Building Level'!$J$2:$K$200,2,FALSE)) -> 030 | Q14: =IF(L14=0,"000",VLOOKUP(L14,'Building Level'!$M$2:$N$172,2,FALSE)) -> 000 | S14: =N14&"."&O14&"."&P14 -> 5.02.030
A15: Ss_15_10_30 | B15: 15 | C15: 10 | D15: 30 | F15: Excavating and filling systems | I15: Construction Costs (CC) | J15: Substructure | K15: Foundations up to top of lowest floor slabs | N15: =IF(I15=0, "00", VLOOKUP(I15,'Building Level'!$D$2:$E$100,2,FALSE)) -> 2 | O15: =IF(J15=0,"00",VLOOKUP(J15,'Building Level'!$G$2:$H$100,2,FALSE)) -> 02 | P15: =IF(K15=0,"000",VLOOKUP(K15,'Building Level'!$J$2:$K$200,2,FALSE)) -> 020 | Q15: =IF(L15=0,"000",VLOOKUP(L15,'Building Level'!$M$2:$N$172,2,FALSE)) -> 000 | S15: =N15&"."&O15&"."&P15 -> 2.02.020
A16: Ss_15_10_30 | B16: 15 | C16: 10 | D16: 30 | F16: Excavating and filling systems | I16: Renewal Costs (RC) | J16: Substructure | K16: Foundations up to top of lowest floor slabs | N16: =IF(I16=0, "00", VLOOKUP(I16,'Building Level'!$D$2:$E$100,2,FALSE)) -> 3 | O16: =IF(J16=0,"00",VLOOKUP(J16,'Building Level'!$G$2:$H$100,2,FALSE)) -> 02 | P16: =IF(K16=0,"000",VLOOKUP(K16,'Building Level'!$J$2:$K$200,2,FALSE)) -> 020 | Q16: =IF(L16=0,"000",VLOOKUP(L16,'Building Level'!$M$2:$N$172,2,FALSE)) -> 000 | S16: =N16&"."&O16&"."&P16 -> 3.02.020
A17: Ss_15_10_30 | B17: 15 | C17: 10 | D17: 30 | F17: Excavating and filling systems | I17: Maintenance Costs (MC) | J17: Substructure | K17: Foundations up to top of lowest floor slabs | N17: =IF(I17=0, "00", VLOOKUP(I17,'Building Level'!$D$2:$E$100,2,FALSE)) -> 5 | O17: =IF(J17=0,"00",VLOOKUP(J17,'Building Level'!$G$2:$H$100,2,FALSE)) -> 02 | P17: =IF(K17=0,"000",VLOOKUP(K17,'Building Level'!$J$2:$K$200,2,FALSE)) -> 020 | Q17: =IF(L17=0,"000",VLOOKUP(L17,'Building Level'!$M$2:$N$172,2,FALSE)) -> 000 | S17: =N17&"."&O17&"."&P17 -> 5.02.020
A18: Ss_15_10_30_05 | B18: 15 | C18: 10 | D18: 30 | E18: 05 | F18: Backfill systems | I18: Construction Costs (CC) | J18: Substructure | K18: Basement sides and bottom | N18: =IF(I18=0, "00", VLOOKUP(I18,'Building Level'!$D$2:$E$100,2,FALSE)) -> 2 | O18: =IF(J18=0,"00",VLOOKUP(J18,'Building Level'!$G$2:$H$100,2,FALSE)) -> 02 | P18: =IF(K18=0,"000",VLOOKUP(K18,'Building Level'!$J$2:$K$200,2,FALSE)) -> 030 | Q18: =IF(L18=0,"000",VLOOKUP(L18,'Building Level'!$M$2:$N$172,2,FALSE)) -> 000 | S18: =N18&"."&O18&"."&P18 -> 2.02.030
A19: Ss_15_10_30_05 | B19: 15 | C19: 10 | D19: 30 | E19: 05 | F19: Backfill systems | I19: Renewal Costs (RC) | J19: Substructure | K19: Basement sides and bottom | N19: =IF(I19=0, "00", VLOOKUP(I19,'Building Level'!$D$2:$E$100,2,FALSE)) -> 3 | O19: =IF(J19=0,"00",VLOOKUP(J19,'Building Level'!$G$2:$H$100,2,FALSE)) -> 02 | P19: =IF(K19=0,"000",VLOOKUP(K19,'Building Level'!$J$2:$K$200,2,FALSE)) -> 030 | Q19: =IF(L19=0,"000",VLOOKUP(L19,'Building Level'!$M$2:$N$172,2,FALSE)) -> 000 | S19: =N19&"."&O19&"."&P19 -> 3.02.030
A20: Ss_15_10_30_05 | B20: 15 | C20: 10 | D20: 30 | E20: 05 | F20: Backfill systems | I20: Maintenance Costs (MC) | J20: Substructure | K20: Basement sides and bottom | N20: =IF(I20=0, "00", VLOOKUP(I20,'Building Level'!$D$2:$E$100,2,FALSE)) -> 5 | O20: =IF(J20=0,"00",VLOOKUP(J20,'Building Level'!$G$2:$H$100,2,FALSE)) -> 02 | P20: =IF(K20=0,"000",VLOOKUP(K20,'Building Level'!$J$2:$K$200,2,FALSE)) -> 030 | Q20: =IF(L20=0,"000",VLOOKUP(L20,'Building Level'!$M$2:$N$172,2,FALSE)) -> 000 | S20: =N20&"."&O20&"."&P20 -> 5.02.030
A21: Ss_15_10_30_05 | B21: 15 | C21: 10 | D21: 30 | E21: 05 | F21: Backfill systems | I21: Construction Costs (CC) | J21: Substructure | K21: Foundations up to top of lowest floor slabs | N21: =IF(I21=0, "00", VLOOKUP(I21,'Building Level'!$D$2:$E$100,2,FALSE)) -> 2 | O21: =IF(J21=0,"00",VLOOKUP(J21,'Building Level'!$G$2:$H$100,2,FALSE)) -> 02 | P21: =IF(K21=0,"000",VLOOKUP(K21,'Building Level'!$J$2:$K$200,2,FALSE)) -> 020 | Q21: =IF(L21=0,"000",VLOOKUP(L21,'Building Level'!$M$2:$N$172,2,FALSE)) -> 000 | S21: =N21&"."&O21&"."&P21 -> 2.02.020
A22: Ss_15_10_30_05 | B22: 15 | C22: 10 | D22: 30 | E22: 05 | F22: Backfill systems | I22: Renewal Costs (RC) | J22: Substructure | K22: Foundations up to top of lowest floor slabs | N22: =IF(I22=0, "00", VLOOKUP(I22,'Building Level'!$D$2:$E$100,2,FALSE)) -> 3 | O22: =IF(J22=0,"00",VLOOKUP(J22,'Building Level'!$G$2:$H$100,2,FALSE)) -> 02 | P22: =IF(K22=0,"000",VLOOKUP(K22,'Building Level'!$J$2:$K$200,2,FALSE)) -> 020 | Q22: =IF(L22=0,"000",VLOOKUP(L22,'Building Level'!$M$2:$N$172,2,FALSE)) -> 000 | S22: =N22&"."&O22&"."&P22 -> 3.02.020
A23: Ss_15_10_30_05 | B23: 15 | C23: 10 | D23: 30 | E23: 05 | F23: Backfill systems | I23: Maintenance Costs (MC) | J23: Substructure | K23: Foundations up to top of lowest floor slabs | N23: =IF(I23=0, "00", VLOOKUP(I23,'Building Level'!$D$2:$E$100,2,FALSE)) -> 5 | O23: =IF(J23=0,"00",VLOOKUP(J23,'Building Level'!$G$2:$H$100,2,FALSE)) -> 02 | P23: =IF(K23=0,"000",VLOOKUP(K23,'Building Level'!$J$2:$K$200,2,FALSE)) -> 020 | Q23: =IF(L23=0,"000",VLOOKUP(L23,'Building Level'!$M$2:$N$172,2,FALSE)) -> 000 | S23: =N23&"."&O23&"."&P23 -> 5.02.020
A24: Ss_15_10_30_25 | B24: 15 | C24: 10 | D24: 30 | E24: 25 | F24: Earthworks excavating systems | I24: Construction Costs (CC) | J24: Substructure | K24: Basement sides and bottom | N24: =IF(I24=0, "00", VLOOKUP(I24,'Building Level'!$D$2:$E$100,2,FALSE)) -> 2 | O24: =IF(J24=0,"00",VLOOKUP(J24,'Building Level'!$G$2:$H$100,2,FALSE)) -> 02 | P24: =IF(K24=0,"000",VLOOKUP(K24,'Building Level'!$J$2:$K$200,2,FALSE)) -> 030 | Q24: =IF(L24=0,"000",VLOOKUP(L24,'Building Level'!$M$2:$N$172,2,FALSE)) -> 000 | S24: =N24&"."&O24&"."&P24 -> 2.02.030
A25: Ss_15_10_30_25 | B25: 15 | C25: 10 | D25: 30 | E25: 25 | F25: Earthworks excavating systems | I25: Renewal Costs (RC) | J25: Substructure | K25: Basement sides and bottom | N25: =IF(I25=0, "00", VLOOKUP(I25,'Building Level'!$D$2:$E$100,2,FALSE)) -> 3 | O25: =IF(J25=0,"00",VLOOKUP(J25,'Building Level'!$G$2:$H$100,2,FALSE)) -> 02 | P25: =IF(K25=0,"000",VLOOKUP(K25,'Building Level'!$J$2:$K$200,2,FALSE)) -> 030 | Q25: =IF(L25=0,"000",VLOOKUP(L25,'Building Level'!$M$2:$N$172,2,FALSE)) -> 000 | S25: =N25&"."&O25&"."&P25 -> 3.02.030
A26: Ss_15_10_30_25 | B26: 15 | C26: 10 | D26: 30 | E26: 25 | F26: Earthworks excavating systems | I26: Maintenance Costs (MC) | J26: Substructure | K26: Basement sides and bottom | N26: =IF(I26=0, "00", VLOOKUP(I26,'Building Level'!$D$2:$E$100,2,FALSE)) -> 5 | O26: =IF(J26=0,"00",VLOOKUP(J26,'Building Level'!$G$2:$H$100,2,FALSE)) -> 02 | P26: =IF(K26=0,"000",VLOOKUP(K26,'Building Level'!$J$2:$K$200,2,FALSE)) -> 030 | Q26: =IF(L26=0,"000",VLOOKUP(L26,'Building Level'!$M$2:$N$172,2,FALSE)) -> 000 | S26: =N26&"."&O26&"."&P26 -> 5.02.030
A27: Ss_15_10_30_25 | B27: 15 | C27: 10 | D27: 30 | E27: 25 | F27: Earthworks excavating systems | I27: Construction Costs (CC) | J27: Substructure | K27: Foundations up to top of lowest floor slabs | N27: =IF(I27=0, "00", VLOOKUP(I27,'Building Level'!$D$2:$E$100,2,FALSE)) -> 2 | O27: =IF(J27=0,"00",VLOOKUP(J27,'Building Level'!$G$2:$H$100,2,FALSE)) -> 02 | P27: =IF(K27=0,"000",VLOOKUP(K27,'Building Level'!$J$2:$K$200,2,FALSE)) -> 020 | Q27: =IF(L27=0,"000",VLOOKUP(L27,'Building Level'!$M$2:$N$172,2,FALSE)) -> 000 | S27: =N27&"."&O27&"."&P27 -> 2.02.020
A28: Ss_15_10_30_25 | B28: 15 | C28: 10 | D28: 30 | E28: 25 | F28: Earthworks excavating systems | I28: Renewal Costs (RC) | J28: Substructure | K28: Foundations up to top of lowest floor slabs | N28: =IF(I28=0, "00", VLOOKUP(I28,'Building Level'!$D$2:$E$100,2,FALSE)) -> 3 | O28: =IF(J28=0,"00",VLOOKUP(J28,'Building Level'!$G$2:$H$100,2,FALSE)) -> 02 | P28: =IF(K28=0,"000",VLOOKUP(K28,'Building Level'!$J$2:$K$200,2,FALSE)) -> 020 | Q28: =IF(L28=0,"000",VLOOKUP(L28,'Building Level'!$M$2:$N$172,2,FALSE)) -> 000 | S28: =N28&"."&O28&"."&P28 -> 3.02.020
A29: Ss_15_10_30_25 | B29: 15 | C29: 10 | D29: 30 | E29: 25 | F29: Earthworks excavating systems | I29: Maintenance Costs (MC) | J29: Substructure | K29: Foundations up to top of lowest floor slabs | N29: =IF(I29=0, "00", VLOOKUP(I29,'Building Level'!$D$2:$E$100,2,FALSE)) -> 5 | O29: =IF(J29=0,"00",VLOOKUP(J29,'Building Level'!$G$2:$H$100,2,FALSE)) -> 02 | P29: =IF(K29=0,"000",VLOOKUP(K29,'Building Level'!$J$2:$K$200,2,FALSE)) -> 020 | Q29: =IF(L29=0,"000",VLOOKUP(L29,'Building Level'!$M$2:$N$172,2,FALSE)) -> 000 | S29: =N29&"."&O29&"."&P29 -> 5.02.020
... A47: Ss_15_10_30_90 | B47: 15 | C47: 10 | D47: 30 | E47: 90 | F47: Topsoil filling systems | I47: Maintenance Costs (MC) | J47: Demolition, site preparation and formation | K47: Site formation and slope treatment | N47: =IF(I47=0, "00", VLOOKUP(I47,'Building Level'!$D$2:$E$100,2,FALSE)) -> 5 | O47: =IF(J47=0,"00",VLOOKUP(J47,'Building Level'!$G$2:$H$100,2,FALSE)) -> 01 | P47: =IF(K47=0,"000",VLOOKUP(K47,'Building Level'!$J$2:$K$200,2,FALSE)) -> 080 | Q47: =IF(L47=0,"000",VLOOKUP(L47,'Building Level'!$M$2:$N$172,2,FALSE)) -> 000 | S47: =N47&"."&O47&"."&P47 -> 5.01.080
A48: Ss_15_10_33 | B48: 15 | C48: 10 | D48: 33 | F48: Ground gas disposal systems | I48: Construction Costs (CC) | J48: Demolition, site preparation and formation | K48: Environmental treatment | N48: =IF(I48=0, "00", VLOOKUP(I48,'Building Level'!$D$2:$E$100,2,FALSE)) -> 2 | O48: =IF(J48=0,"00",VLOOKUP(J48,'Building Level'!$G$2:$H$100,2,FALSE)) -> 01 | P48: =IF(K48=0,"000",VLOOKUP(K48,'Building Level'!$J$2:$K$200,2,FALSE)) -> 020 | Q48: =IF(L48=0,"000",VLOOKUP(L48,'Building Level'!$M$2:$N$172,2,FALSE)) -> 000 | S48: =N48&"."&O48&"."&P48 -> 2.01.020
A49: Ss_15_10_33 | B49: 15 | C49: 10 | D49: 33 | F49: Ground gas disposal systems | I49: Renewal Costs (RC) | J49: Demolition, site preparation and formation | K49: Environmental treatment | N49: =IF(I49=0, "00", VLOOKUP(I49,'Building Level'!$D$2:$E$100,2,FALSE)) -> 3 | O49: =IF(J49=0,"00",VLOOKUP(J49,'Building Level'!$G$2:$H$100,2,FALSE)) -> 01 | P49: =IF(K49=0,"000",VLOOKUP(K49,'Building Level'!$J$2:$K$200,2,FALSE)) -> 020 | Q49: =IF(L49=0,"000",VLOOKUP(L49,'Building Level'!$M$2:$N$172,2,FALSE)) -> 000 | S49: =N49&"."&O49&"."&P49 -> 3.01.020
A50: Ss_15_10_33 | B50: 15 | C50: 10 | D50: 33 | F50: Ground gas disposal systems | I50: Maintenance Costs (MC) | J50: Demolition, site preparation and formation | K50: Environmental treatment | N50: =IF(I50=0, "00", VLOOKUP(I50,'Building Level'!$D$2:$E$100,2,FALSE)) -> 5 | O50: =IF(J50=0,"00",VLOOKUP(J50,'Building Level'!$G$2:$H$100,2,FALSE)) -> 01 | P50: =IF(K50=0,"000",VLOOKUP(K50,'Building Level'!$J$2:$K$200,2,FALSE)) -> 020 | Q50: =IF(L50=0,"000",VLOOKUP(L50,'Building Level'!$M$2:$N$172,2,FALSE)) -> 000 | S50: =N50&"."&O50&"."&P50 -> 5.01.020
A51: Ss_15_10_33_34 | B51: 15 | C51: 10 | D51: 33 | E51: 34 | F51: Ground gas collection and venting systems | I51: Construction Costs (CC) | J51: Demolition, site preparation and formation | K51: Environmental treatment | N51: =IF(I51=0, "00", VLOOKUP(I51,'Building Level'!$D$2:$E$100,2,FALSE)) -> 2 | O51: =IF(J51=0,"00",VLOOKUP(J51,'Building Level'!$G$2:$H$100,2,FALSE)) -> 01 | P51: =IF(K51=0,"000",VLOOKUP(K51,'Building Level'!$J$2:$K$200,2,FALSE)) -> 020 | Q51: =IF(L51=0,"000",VLOOKUP(L51,'Building Level'!$M$2:$N$172,2,FALSE)) -> 000 | S51: =N51&"."&O51&"."&P51 -> 2.01.020
A52: Ss_15_10_33_34 | B52: 15 | C52: 10 | D52: 33 | E52: 34 | F52: Ground gas collection and venting systems | I52: Renewal Costs (RC) | J52: Demolition, site preparation and formation | K52: Environmental treatment | N52: =IF(I52=0, "00", VLOOKUP(I52,'Building Level'!$D$2:$E$100,2,FALSE)) -> 3 | O52: =IF(J52=0,"00",VLOOKUP(J52,'Building Level'!$G$2:$H$100,2,FALSE)) -> 01 | P52: =IF(K52=0,"000",VLOOKUP(K52,'Building Level'!$J$2:$K$200,2,FALSE)) -> 020 | Q52: =IF(L52=0,"000",VLOOKUP(L52,'Building Level'!$M$2:$N$172,2,FALSE)) -> 000 | S52: =N52&"."&O52&"."&P52 -> 3.01.020
A53: Ss_15_10_33_34 | B53: 15 | C53: 10 | D53: 33 | E53: 34 | F53: Ground gas collection and venting systems | I53: Maintenance Costs (MC) | J53: Demolition, site preparation and formation | K53: Environmental treatment | N53: =IF(I53=0, "00", VLOOKUP(I53,'Building Level'!$D$2:$E$100,2,FALSE)) -> 5 | O53: =IF(J53=0,"00",VLOOKUP(J53,'Building Level'!$G$2:$H$100,2,FALSE)) -> 01 | P53: =IF(K53=0,"000",VLOOKUP(K53,'Building Level'!$J$2:$K$200,2,FALSE)) -> 020 | Q53: =IF(L53=0,"000",VLOOKUP(L53,'Building Level'!$M$2:$N$172,2,FALSE)) -> 000 | S53: =N53&"."&O53&"."&P53 -> 5.01.020
A54: Ss_15_10_35 | B54: 15 | C54: 10 | D54: 35 | F54: Ground remediation systems | I54: Construction Costs (CC) | J54: Demolition, site preparation and formation | K54: Environmental treatment | N54: =IF(I54=0, "00", VLOOKUP(I54,'Building Level'!$D$2:$E$100,2,FALSE)) -> 2 | O54: =IF(J54=0,"00",VLOOKUP(J54,'Building Level'!$G$2:$H$100,2,FALSE)) -> 01 | P54: =IF(K54=0,"000",VLOOKUP(K54,'Building Level'!$J$2:$K$200,2,FALSE)) -> 020 | Q54: =IF(L54=0,"000",VLOOKUP(L54,'Building Level'!$M$2:$N$172,2,FALSE)) -> 000 | S54: =N54&"."&O54&"."&P54 -> 2.01.020
A55: Ss_15_10_35 | B55: 15 | C55: 10 | D55: 35 | F55: Ground remediation systems | I55: Renewal Costs (RC) | J55: Demolition, site preparation and formation | K55: Environmental treatment | N55: =IF(I55=0, "00", VLOOKUP(I55,'Building Level'!$D$2:$E$100,2,FALSE)) -> 3 | O55: =IF(J55=0,"00",VLOOKUP(J55,'Building Level'!$G$2:$H$100,2,FALSE)) -> 01 | P55: =IF(K55=0,"000",VLOOKUP(K55,'Building Level'!$J$2:$K$200,2,FALSE)) -> 020 | Q55: =IF(L55=0,"000",VLOOKUP(L55,'Building Level'!$M$2:$N$172,2,FALSE)) -> 000 | S55: =N55&"."&O55&"."&P55 -> 3.01.020
A56: Ss_15_10_35 | B56: 15 | C56: 10 | D56: 35 | F56: Ground remediation systems | I56: Maintenance Costs (MC) | J56: Demolition, site preparation and formation | K56: Environmental treatment | N56: =IF(I56=0, "00", VLOOKUP(I56,'Building Level'!$D$2:$E$100,2,FALSE)) -> 5 | O56: =IF(J56=0,"00",VLOOKUP(J56,'Building Level'!$G$2:$H$100,2,FALSE)) -> 01 | P56: =IF(K56=0,"000",VLOOKUP(K56,'Building Level'!$J$2:$K$200,2,FALSE)) -> 020 | Q56: =IF(L56=0,"000",VLOOKUP(L56,'Building Level'!$M$2:$N$172,2,FALSE)) -> 000 | S56: =N56&"."&O56&"."&P56 -> 5.01.020
A57: Ss_15_10_35_07 | B57: 15 | C57: 10 | D57: 35 | E57: 07 | F57: Bioremediation systems | I57: Construction Costs (CC) | J57: Demolition, site preparation and formation | K57: Environmental treatment | N57: =IF(I57=0, "00", VLOOKUP(I57,'Building Level'!$D$2:$E$100,2,FALSE)) -> 2 | O57: =IF(J57=0,"00",VLOOKUP(J57,'Building Level'!$G$2:$H$100,2,FALSE)) -> 01 | P57: =IF(K57=0,"000",VLOOKUP(K57,'Building Level'!$J$2:$K$200,2,FALSE)) -> 020 | Q57: =IF(L57=0,"000",VLOOKUP(L57,'Building Level'!$M$2:$N$172,2,FALSE)) -> 000 | S57: =N57&"."&O57&"."&P57 -> 2.01.020
A58: Ss_15_10_35_07 | B58: 15 | C58: 10 | D58: 35 | E58: 07 | F58: Bioremediation systems | I58: Renewal Costs (RC) | J58: Demolition, site preparation and formation | K58: Environmental treatment | N58: =IF(I58=0, "00", VLOOKUP(I58,'Building Level'!$D$2:$E$100,2,FALSE)) -> 3 | O58: =IF(J58=0,"00",VLOOKUP(J58,'Building Level'!$G$2:$H$100,2,FALSE)) -> 01 | P58: =IF(K58=0,"000",VLOOKUP(K58,'Building Level'!$J$2:$K$200,2,FALSE)) -> 020 | Q58: =IF(L58=0,"000",VLOOKUP(L58,'Building Level'!$M$2:$N$172,2,FALSE)) -> 000 | S58: =N58&"."&O58&"."&P58 -> 3.01.020
A59: Ss_15_10_35_07 | B59: 15 | C59: 10 | D59: 35 | E59: 07 | F59: Bioremediation systems | I59: Maintenance Costs (MC) | J59: Demolition, site preparation and formation | K59: Environmental treatment | N59: =IF(I59=0, "00", VLOOKUP(I59,'Building Level'!$D$2:$E$100,2,FALSE)) -> 5 | O59: =IF(J59=0,"00",VLOOKUP(J59,'Building Level'!$G$2:$H$100,2,FALSE)) -> 01 | P59: =IF(K59=0,"000",VLOOKUP(K59,'Building Level'!$J$2:$K$200,2,FALSE)) -> 020 | Q59: =IF(L59=0,"000",VLOOKUP(L59,'Building Level'!$M$2:$N$172,2,FALSE)) -> 000 | S59: =N59&"."&O59&"."&P59 -> 5.01.020
...

Sheet Civil Map
B1: Ss Systems - 08 February 2019 - v1.13
B4: Code | C4: Group | D4: Sub group | E4: Section | F4: Object | G4: Title | J4: Cost Category | K4: Cost Group | L4: Cost Sub-Group | M4: Cost Sub Sub-Group | O4: L2 | P4: L3 | Q4: L4 | R4: L5 | T4: Unique ID | V4: Notes
A5: 1 | B5: Ss_15 | C5: 15 | G5: Earthworks, remediation and temporary systems | J5: Construction Costs (CC) | K5: Demolition, site preparation and formation | L5: General site formation and slope treatment | O5: =IF(J5=0, "00", VLOOKUP(J5,'Civil Level'!$D$2:$E$100,2,FALSE)) -> 2 | P5: =IF(K5=0,"00",VLOOKUP(K5,'Civil Level'!$G$2:$H$100,2,FALSE)) -> 01 | Q5: =IF(L5=0,"000",VLOOKUP(L5,'Civil Level'!$J$2:$K$200,2,FALSE)) -> 080 | R5: =IF(M5=0,"000",VLOOKUP(M5,'Civil Level'!$M$2:$N$172,2,FALSE)) -> 000 | T5: =O5&"."&P5&"."&Q5 -> 2.01.080
